BEGIN:VCALENDAR
VERSION:2.0
PRODID:-//FMZ - ECPv6.15.17//NONSGML v1.0//EN
CALSCALE:GREGORIAN
METHOD:PUBLISH
X-WR-CALNAME:FMZ
X-ORIGINAL-URL:https://frauenmusikzentrum.de
X-WR-CALDESC:Veranstaltungen für FMZ
REFRESH-INTERVAL;VALUE=DURATION:PT1H
X-Robots-Tag:noindex
X-PUBLISHED-TTL:PT1H
BEGIN:VTIMEZONE
TZID:Europe/Berlin
BEGIN:DAYLIGHT
TZOFFSETFROM:+0100
TZOFFSETTO:+0200
TZNAME:CEST
DTSTART:20220327T010000
END:DAYLIGHT
BEGIN:STANDARD
TZOFFSETFROM:+0200
TZOFFSETTO:+0100
TZNAME:CET
DTSTART:20221030T010000
END:STANDARD
BEGIN:DAYLIGHT
TZOFFSETFROM:+0100
TZOFFSETTO:+0200
TZNAME:CEST
DTSTART:20230326T010000
END:DAYLIGHT
BEGIN:STANDARD
TZOFFSETFROM:+0200
TZOFFSETTO:+0100
TZNAME:CET
DTSTART:20231029T010000
END:STANDARD
BEGIN:DAYLIGHT
TZOFFSETFROM:+0100
TZOFFSETTO:+0200
TZNAME:CEST
DTSTART:20240331T010000
END:DAYLIGHT
BEGIN:STANDARD
TZOFFSETFROM:+0200
TZOFFSETTO:+0100
TZNAME:CET
DTSTART:20241027T010000
END:STANDARD
END:VTIMEZONE
BEGIN:VEVENT
DTSTART;TZID=Europe/Berlin:20230208T190000
DTEND;TZID=Europe/Berlin:20230208T210000
DTSTAMP:20260422T161655
CREATED:20230110T114605Z
LAST-MODIFIED:20230110T114622Z
UID:4184-1675882800-1675890000@frauenmusikzentrum.de
SUMMARY:f*mz Ukulelistas mit Angela Gobelin
DESCRIPTION:Ein regelmässiges Treffen für Frauen\, die Ukulele spielen\, egal wie lang\, wie gut. \nWir wollen regelmässig miteinander spielen\, Tipps rund um die Ukulele austauschen und Gelerntes aus Ukulele-Workshops in die Praxis umsetzen. Bringt gerne Songs mit\, die ihr spielen möchtet oder schickt sie mir vorher. Auch gern Bariton und Bassukulele-Spielerinnen! \nIch freu mich auf euch \nAngela
URL:https://frauenmusikzentrum.de/veranstaltung/fmz-ukulelistas-mit-angela-gobelin-7/
LOCATION:Frauenmusikzentrum\, Große Brunnenstr. 63A\, Hamburg\, 22763
CATEGORIES:Ukulele
ATTACH;FMTTYPE=image/jpeg:https://frauenmusikzentrum.de/wp-content/uploads/2022/03/Ukulele2.jpg
ORGANIZER;CN="Frauenmusikzentrum":MAILTO:info@frauenmusikzentrum.de
END:VEVENT
BEGIN:VEVENT
DTSTART;TZID=Europe/Berlin:20230211T120000
DTEND;TZID=Europe/Berlin:20230211T170000
DTSTAMP:20260422T161655
CREATED:20221226T110735Z
LAST-MODIFIED:20221226T111901Z
UID:4143-1676116800-1676134800@frauenmusikzentrum.de
SUMMARY:FLINTA* DJ Workshop mit Esshar
DESCRIPTION:In diesem Anfänger*innen-Workshop werden die Grundlagen des digitalen Auflegens mit modernen Pioneer Multi-Playern und mit Laptop & Controller vermittelt.\nDu gewinnst wichtige Einblicke in den Umgang mit der DJ Software Rekordbox und lernst technische und theoretische Grundlagen zu den Geräten\, den verwendeten Dateiformaten\, dem Beatmatching und bekommst eine Einführung in die elektronische Musik und deren Aufbau. Im Praxisteil kannst du das Erlernte direkt an mehreren Stationen ausprobieren und die ersten eigenen Erfahrungen sammeln. \nDu willst also das Auflegen lernen aber weißt nicht\, wie oder wo du starten sollst oder bist dir unsicher\, wie die Technik dahinter funktioniert? Dann bist du in diesem Workshop genau richtig. Die einzigen Teilnahmevoraussetzungen sind eine gewisse Portion Neugier\, Liebe zur Musik und eine Selbsteinordnung in den Begriff FLINTA* (Frauen*\, Lesben\, Inter-\, nicht-binäre\, trans und agender Menschen). \nUm eine möglichst angenehme Atmosphäre zu schaffen\, wird die Teilnehmer*innenzahl möglichst gering halten (6 Menschen pro Workshop). Der Workshop besteht aus 2 Terminen\, die aufeinander aufbauen. \nAnmeldung unter: esshar@gmx.de \nDozentin: \nEsshar \n  \nKosten: \n100€ – 120€* \n* Slide Scale: Zahle gerne so viel\, wie dir möglich ist.
URL:https://frauenmusikzentrum.de/veranstaltung/flinta-dj-workshop/
LOCATION:Frauenmusikzentrum\, Große Brunnenstr. 63A\, Hamburg\, 22763
CATEGORIES:DJ,Workshop
ATTACH;FMTTYPE=image/jpeg:https://frauenmusikzentrum.de/wp-content/uploads/2022/12/FMZ_DJ-Workshop_Flyer.jpg
END:VEVENT
BEGIN:VEVENT
DTSTART;TZID=Europe/Berlin:20230212T120000
DTEND;TZID=Europe/Berlin:20230212T170000
DTSTAMP:20260422T161655
CREATED:20221226T111653Z
LAST-MODIFIED:20221226T111653Z
UID:4149-1676203200-1676221200@frauenmusikzentrum.de
SUMMARY:FLINTA* DJ Workshop mit Esshar
DESCRIPTION:In diesem Anfänger*innen-Workshop werden die Grundlagen des digitalen Auflegens mit modernen Pioneer Multi-Playern und mit Laptop & Controller vermittelt.\nDu gewinnst wichtige Einblicke in den Umgang mit der DJ Software Rekordbox und lernst technische und theoretische Grundlagen zu den Geräten\, den verwendeten Dateiformaten\, dem Beatmatching und bekommst eine Einführung in die elektronische Musik und deren Aufbau. Im Praxisteil kannst du das Erlernte direkt an mehreren Stationen ausprobieren und die ersten eigenen Erfahrungen sammeln. \nDu willst also das Auflegen lernen aber weißt nicht\, wie oder wo du starten sollst oder bist dir unsicher\, wie die Technik dahinter funktioniert? Dann bist du in diesem Workshop genau richtig. Die einzigen Teilnahmevoraussetzungen sind eine gewisse Portion Neugier\, Liebe zur Musik und eine Selbsteinordnung in den Begriff FLINTA* (Frauen*\, Lesben\, Inter-\, nicht-binäre\, trans und agender Menschen). \nUm eine möglichst angenehme Atmosphäre zu schaffen\, wird die Teilnehmer*innenzahl möglichst gering halten (6 Menschen pro Workshop). Der Workshop besteht aus 2 Terminen\, die aufeinander aufbauen. \nAnmeldung unter: esshar@gmx.de \nDozentin: \nEsshar \n  \nKosten: \n100€ – 120€* \n* Slide Scale: Zahle gerne so viel\, wie dir möglich ist.
URL:https://frauenmusikzentrum.de/veranstaltung/flinta-dj-workshop-mit-esshar/
LOCATION:Frauenmusikzentrum\, Große Brunnenstr. 63A\, Hamburg\, 22763
CATEGORIES:DJ,Workshop
ATTACH;FMTTYPE=image/jpeg:https://frauenmusikzentrum.de/wp-content/uploads/2022/12/FMZ_DJ-Workshop_Flyer.jpg
END:VEVENT
BEGIN:VEVENT
DTSTART;TZID=Europe/Berlin:20230212T190000
DTEND;TZID=Europe/Berlin:20230212T220000
DTSTAMP:20260422T161655
CREATED:20230201T120827Z
LAST-MODIFIED:20230201T120827Z
UID:4262-1676228400-1676239200@frauenmusikzentrum.de
SUMMARY:Musikproduktion-Masterclass mit MRJN (Online)
DESCRIPTION:MRJN ist Musikerin und Gründerin von „MRJN Technik“\, die Tontechnik Community für Frauen und FLINT* Personen im deutschsprachigen Raum. Sie unterstützt dich dabei\, Ideen selbständig\, selbstbestimmt und kostengünstig – von zu Hause aus – umzusetzen. \nAm 12.02.2023 um 19 Uhr gibt MRJN einen unverbindlichen Infoabend für meine einjährige Musikproduktions-Masterclass. Ziel der Masterclass ist es\, innerhalb eines Jahres sich selbst produzieren zu lernen. \nWährend des Infoabends für die Masterclass erläutert MRJN: \n✅ welche Inhalte die Teilnehmerinnen* erwarten. \n✅ welches Equipment für die Masterclass notwendig ist. \n✅ wie Ziele und Strukturen sie dabei unterstützen. \nHier findet ihr alle Infos: mrjn-music.com/infoabend
URL:https://frauenmusikzentrum.de/veranstaltung/musikproduktion-masterclass-mit-mrjn-online/
CATEGORIES:Beatproduktion,Workshop
END:VEVENT
BEGIN:VEVENT
DTSTART;TZID=Europe/Berlin:20230218T190000
DTEND;TZID=Europe/Berlin:20230218T233000
DTSTAMP:20260422T161655
CREATED:20230214T130020Z
LAST-MODIFIED:20230214T130020Z
UID:4272-1676746800-1676763000@frauenmusikzentrum.de
SUMMARY:Valentines Karaoke Abend im f*mz
DESCRIPTION:Weil’s so schön ist und damit die rosa Herzchenballons noch länger prall herumschweben\, lassen wir Valentinstag nachklingen mit einem Valentine’s Karaoke Abend!\n  \nSamstag\, 18.02.2023 \nab 19 Uhr im Frauen*musikzentrum \n  \nKomm und sing deinen Lieblings-Lovesong oder ein Lied deines Herzens.  Hier zählt nicht die perfekte Gesangstechnik sondern der Spaß und natürlich deine Power of Love! Lassen wir’s krachen und das fm*z mit Liebe erfüllen! \n 
URL:https://frauenmusikzentrum.de/veranstaltung/karaokeabend/
LOCATION:Frauenmusikzentrum\, Große Brunnenstr. 63A\, Hamburg\, 22763
CATEGORIES:Veranstaltung
ATTACH;FMTTYPE=image/jpeg:https://frauenmusikzentrum.de/wp-content/uploads/2023/02/Blumen.jpg
END:VEVENT
END:VCALENDAR