BEGIN:VCALENDAR
VERSION:2.0
PRODID:-//FMZ - ECPv6.15.17//NONSGML v1.0//EN
CALSCALE:GREGORIAN
METHOD:PUBLISH
X-ORIGINAL-URL:https://frauenmusikzentrum.de
X-WR-CALDESC:Veranstaltungen für FMZ
REFRESH-INTERVAL;VALUE=DURATION:PT1H
X-Robots-Tag:noindex
X-PUBLISHED-TTL:PT1H
BEGIN:VTIMEZONE
TZID:Europe/Berlin
BEGIN:DAYLIGHT
TZOFFSETFROM:+0100
TZOFFSETTO:+0200
TZNAME:CEST
DTSTART:20220327T010000
END:DAYLIGHT
BEGIN:STANDARD
TZOFFSETFROM:+0200
TZOFFSETTO:+0100
TZNAME:CET
DTSTART:20221030T010000
END:STANDARD
BEGIN:DAYLIGHT
TZOFFSETFROM:+0100
TZOFFSETTO:+0200
TZNAME:CEST
DTSTART:20230326T010000
END:DAYLIGHT
BEGIN:STANDARD
TZOFFSETFROM:+0200
TZOFFSETTO:+0100
TZNAME:CET
DTSTART:20231029T010000
END:STANDARD
BEGIN:DAYLIGHT
TZOFFSETFROM:+0100
TZOFFSETTO:+0200
TZNAME:CEST
DTSTART:20240331T010000
END:DAYLIGHT
BEGIN:STANDARD
TZOFFSETFROM:+0200
TZOFFSETTO:+0100
TZNAME:CET
DTSTART:20241027T010000
END:STANDARD
END:VTIMEZONE
BEGIN:VEVENT
DTSTART;TZID=Europe/Berlin:20230111T190000
DTEND;TZID=Europe/Berlin:20230111T210000
DTSTAMP:20260422T145601
CREATED:20230110T114514Z
LAST-MODIFIED:20230110T114514Z
UID:4182-1673463600-1673470800@frauenmusikzentrum.de
SUMMARY:f*mz Ukulelistas mit Angela Gobelin
DESCRIPTION:Ein regelmässiges Treffen für Frauen\, die Ukulele spielen\, egal wie lang\, wie gut. \nWir wollen regelmässig miteinander spielen\, Tipps rund um die Ukulele austauschen und Gelerntes aus Ukulele-Workshops in die Praxis umsetzen. Bringt gerne Songs mit\, die ihr spielen möchtet oder schickt sie mir vorher. Auch gern Bariton und Bassukulele-Spielerinnen! \nIch freu mich auf euch \nAngela
URL:https://frauenmusikzentrum.de/veranstaltung/fmz-ukulelistas-mit-angela-gobelin-6/
LOCATION:Frauenmusikzentrum\, Große Brunnenstr. 63A\, Hamburg\, 22763
CATEGORIES:Ukulele
ATTACH;FMTTYPE=image/jpeg:https://frauenmusikzentrum.de/wp-content/uploads/2022/03/Ukulele2.jpg
ORGANIZER;CN="Frauenmusikzentrum":MAILTO:info@frauenmusikzentrum.de
END:VEVENT
BEGIN:VEVENT
DTSTART;TZID=Europe/Berlin:20230121T140000
DTEND;TZID=Europe/Berlin:20230121T180000
DTSTAMP:20260422T145601
CREATED:20221018T102952Z
LAST-MODIFIED:20221226T111416Z
UID:3937-1674309600-1674324000@frauenmusikzentrum.de
SUMMARY:Ukulele Workshop: Absolute Beginners
DESCRIPTION:Ihr wolltet schon immer Ukulele spielen oder habt gerade vor kurzem damit angefangen – dann seid ihr hier richtig! \nWir beginnen mit den Basics: Wie halte ich die Ukulele und wie wird sie gestimmt? Wir erlernen gemeinsam die ersten Akkorde und Strummings. Nach ein paar Übungen werden wir gemeinsam schon erste einfache Songs mit einem\, zwei oder mehreren Akkorden spielen. \nIhr erfahrt ausserdem Wissenswertes und Tipps rund ums Instrument. Bitte sagt Bescheid\, wenn ihr ein Leihinstrument braucht\, Notenständer sind vorhanden. \n\n\n\nAnmeldung unter info@frauenmusikzentrum.de \n\n\nWorkshopleiterin: Angela Gobelin
URL:https://frauenmusikzentrum.de/veranstaltung/ukulele-workshop-absolute-beginners/
LOCATION:Frauenmusikzentrum\, Große Brunnenstr. 63A\, Hamburg\, 22763
CATEGORIES:Ukulele,Workshop
ATTACH;FMTTYPE=image/jpeg:https://frauenmusikzentrum.de/wp-content/uploads/2019/03/Angela-Ukulele-square.jpg
END:VEVENT
BEGIN:VEVENT
DTSTART;TZID=Europe/Berlin:20230125T190000
DTEND;TZID=Europe/Berlin:20230125T210000
DTSTAMP:20260422T145601
CREATED:20221214T115816Z
LAST-MODIFIED:20221214T115852Z
UID:4005-1674673200-1674680400@frauenmusikzentrum.de
SUMMARY:Schnupperkurs: BeatSchwestern Body-Percussion-Chor
DESCRIPTION:BeatSchwestern starten Body-Percussion-Chor\nDie “BeatSchwestern“ sind der rhythmusbewegte Frauen*-Chor in Hamburg – der Chor\, der auch den Groove macht! Für das Jahresprojekt 2023 werden jetzt neue Mitspielerinnen* gesucht\, die Lust auf einen Body-Percussion-Chor haben. \nBody-Percussion-Chor bedeutet: wir machen mit unserem Körper den Rhythmus\, mit Klatschen\, Schnipsen\, Füßen\, und mehr…. und dann singen wir auch noch mehrstimmig dazu. \nEs gibt Schnuppertermine\, zu denen Interessentinnen* im f*mz in Hamburg willkommen sind: \nMittwoch\, 25.01. von 19.00 bis 21.00 Uhr\, Mittwoch\, 22.02. von 19.00 bis 21.00 Uhr. \nBitte melde dich vorher per Mail: hunkay@web.de an und bringe 25\,-€ mit. \nDanach startet das eigentliche Projekt mit dem Wochenende 25.+ 26. März 2023 (Samstag 12-18 Uhr\, Sonntag 12-16 Uhr) \nDie Proben-Sonntage sind: 23. April\, 04. Juni\, 13. August\, 24. September\, 29. Oktober\, 26. November\, jeweils von 12-17.30 Uhr inkl. Pausen.  \nAuftritte sind für 2024 geplant. \n  \n*Kosten: \nWochenende 25. + 26.03.2023: 120\,- EUR\nSonntage 12-17.30 Uhr jeweils 80\,- EUR (ermäßigt 65\,- EUR)\nAbschlusswochenende mit Konzert im Januar 2024: 120\,- EUR \nDas Jahresprojekt wird als Ganzes gebucht; Ratenzahlung ist möglich! \n  \nFrauen*/FLINTA= Frauen\, Lesben\, Inter\, Non-binär\, Trans\, A-Gender
URL:https://frauenmusikzentrum.de/veranstaltung/schnupperkursbeatschwestern1/
LOCATION:Frauenmusikzentrum\, Große Brunnenstr. 63A\, Hamburg\, 22763
CATEGORIES:Bodypercussion,Workshop
ATTACH;FMTTYPE=image/jpeg:https://frauenmusikzentrum.de/wp-content/uploads/2022/12/A-Quadrat-600x400-1.jpg
ORGANIZER;CN="Frauenmusikzentrum":MAILTO:info@frauenmusikzentrum.de
END:VEVENT
BEGIN:VEVENT
DTSTART;TZID=Europe/Berlin:20230125T190000
DTEND;TZID=Europe/Berlin:20230125T220000
DTSTAMP:20260422T145601
CREATED:20230117T111620Z
LAST-MODIFIED:20230117T115649Z
UID:4222-1674673200-1674684000@frauenmusikzentrum.de
SUMMARY:Mixing Masterclass mit MRJN (Online)
DESCRIPTION:MRJN ist Musikerin und Gründerin von „MRJN Technik“\, die Tontechnik Community für Frauen und FLINT* Personen im deutschsprachigen Raum. Sie unterstützt dich dabei\, Ideen selbständig\, selbstbestimmt und kostengünstig – von zu Hause aus – umzusetzen. \nAm 25.01.2023 um 19:00 Uhr gibt es einen unverbindlichen Infoabend für meine Mixing Masterclass. \nWährend des Infoabends für die Mixing Masterclass zeige MRJN euch:\n✅ welche Inhalte dich in der 3-wöchigen Mixing Masterclass erwarten und wann die Workshops stattfinden.\n✅ für wen sich die Mixing Masterclass eignet und welche Voraussetzungen du benötigst.\n✅ welches Mindset wichtig ist\, um das Jahr 2023 zu deinem Musikjahr zu machen und Spaß dabei zu haben. \nHier findet ihr alle Infos: mrjn-music.com/infoabend
URL:https://frauenmusikzentrum.de/veranstaltung/mixingmasterclass/
CATEGORIES:Beatproduktion,Workshop
END:VEVENT
END:VCALENDAR