BEGIN:VCALENDAR
VERSION:2.0
PRODID:-//FMZ - ECPv6.15.17//NONSGML v1.0//EN
CALSCALE:GREGORIAN
METHOD:PUBLISH
X-ORIGINAL-URL:https://frauenmusikzentrum.de
X-WR-CALDESC:Veranstaltungen für FMZ
REFRESH-INTERVAL;VALUE=DURATION:PT1H
X-Robots-Tag:noindex
X-PUBLISHED-TTL:PT1H
BEGIN:VTIMEZONE
TZID:Europe/Berlin
BEGIN:DAYLIGHT
TZOFFSETFROM:+0100
TZOFFSETTO:+0200
TZNAME:CEST
DTSTART:20210328T010000
END:DAYLIGHT
BEGIN:STANDARD
TZOFFSETFROM:+0200
TZOFFSETTO:+0100
TZNAME:CET
DTSTART:20211031T010000
END:STANDARD
BEGIN:DAYLIGHT
TZOFFSETFROM:+0100
TZOFFSETTO:+0200
TZNAME:CEST
DTSTART:20220327T010000
END:DAYLIGHT
BEGIN:STANDARD
TZOFFSETFROM:+0200
TZOFFSETTO:+0100
TZNAME:CET
DTSTART:20221030T010000
END:STANDARD
BEGIN:DAYLIGHT
TZOFFSETFROM:+0100
TZOFFSETTO:+0200
TZNAME:CEST
DTSTART:20230326T010000
END:DAYLIGHT
BEGIN:STANDARD
TZOFFSETFROM:+0200
TZOFFSETTO:+0100
TZNAME:CET
DTSTART:20231029T010000
END:STANDARD
END:VTIMEZONE
BEGIN:VEVENT
DTSTART;TZID=Europe/Berlin:20221105T130000
DTEND;TZID=Europe/Berlin:20221105T170000
DTSTAMP:20260422T115902
CREATED:20220215T121642Z
LAST-MODIFIED:20220308T132534Z
UID:2174-1667653200-1667667600@frauenmusikzentrum.de
SUMMARY:Jazz Vocal Workshop mit Regina Ebinal
DESCRIPTION:Auf der Bühne stehen und Jazz singen? Der Traum wird wahr! Regina Ebinal erarbeitet in ihrem Workshop mit Anfängerinnen* und Fortgeschrittenen Jazz-Standards. Die Teilnehmerinnen* lernen ihre Stimme kennen und verbessern Variation\, Improvisation und Ausdruck. \nVoraussetzung: keine \nKursleiterin: Regina Ebinal (USA/Hamburg) singt bei Radioübertragungen\, Studioproduktionen und verfügt über zahlreiche Live-Auftrittserfahrungen in diversen Jazz-Formationen. Sie unterrichtet als diplomierte Gesangspädagogin und veranstaltet regelmäßig Vocal Workshops und leitet immer wieder Vocal Sessions in Jazzclubs. \nAnmeldung und weitere Informationen:  mail@reginaebinal.de
URL:https://frauenmusikzentrum.de/veranstaltung/jazz-vocal-workshop-mit-regina-ebinal-2/
LOCATION:Frauenmusikzentrum\, Große Brunnenstr. 63A\, Hamburg\, 22763
CATEGORIES:Workshop
ATTACH;FMTTYPE=image/jpeg:https://frauenmusikzentrum.de/wp-content/uploads/2022/02/Regina-Ebinal-24.jpg
END:VEVENT
BEGIN:VEVENT
DTSTART;TZID=Europe/Berlin:20221116T190000
DTEND;TZID=Europe/Berlin:20221116T210000
DTSTAMP:20260422T115902
CREATED:20220629T114749Z
LAST-MODIFIED:20220629T114751Z
UID:3725-1668625200-1668632400@frauenmusikzentrum.de
SUMMARY:f*mz Ukulelistas mit Angela Gobelin
DESCRIPTION:Ein regelmässiges Treffen für Frauen\, die Ukulele spielen\, egal wie lang\, wie gut. \nWir wollen regelmässig miteinander spielen\, Tipps rund um die Ukulele austauschen und Gelerntes aus Ukulele-Workshops in die Praxis umsetzen. Bringt gerne Songs mit\, die ihr spielen möchtet oder schickt sie mir vorher. Auch gern Bariton und Bassukulele-Spielerinnen! \nIch freu mich auf euch \nAngela
URL:https://frauenmusikzentrum.de/veranstaltung/fmz-ukulelistas-mit-angela-gobelin-4/
LOCATION:Frauenmusikzentrum\, Große Brunnenstr. 63A\, Hamburg\, 22763
CATEGORIES:Ukulele
ATTACH;FMTTYPE=image/jpeg:https://frauenmusikzentrum.de/wp-content/uploads/2022/03/Ukulele2.jpg
ORGANIZER;CN="Frauenmusikzentrum":MAILTO:info@frauenmusikzentrum.de
END:VEVENT
BEGIN:VEVENT
DTSTART;TZID=Europe/Berlin:20221119T193000
DTEND;TZID=Europe/Berlin:20221119T233000
DTSTAMP:20260422T115902
CREATED:20220824T125401Z
LAST-MODIFIED:20220824T125441Z
UID:3871-1668886200-1668900600@frauenmusikzentrum.de
SUMMARY:Hausbandabend in der Motte
DESCRIPTION:Hausbandabend in der Motte\n\nEndlich ist es wieder soweit! Auf der Mottebühne könnt ihr Musikerinnen*\, von Anfängerin* bis Profi\, von jung bis älter\, von Singer-Songwriterinnen* über Musikcomedy bis Hardcore sehen. An welchem Sound ist in den Proberäumen in den letzten Jahren genau getüftelt geworden? Dieses Geheimnis wird mit viel Leidenschaft und Humor beim „Hausbandabend“ gelüftet. \nAll gender welcome!  \nBitte meldet euch vorab als Band und Gäste an unter: info@frauenmusikzentrum.de
URL:https://frauenmusikzentrum.de/veranstaltung/hausbandabend/
LOCATION:Motte\, Eulenstr. 43\, Hamburg\, 22765
CATEGORIES:Veranstaltung
ATTACH;FMTTYPE=image/jpeg:https://frauenmusikzentrum.de/wp-content/uploads/2022/08/DSC_2938-scaled.jpg
ORGANIZER;CN="Frauenmusikzentrum":MAILTO:info@frauenmusikzentrum.de
END:VEVENT
END:VCALENDAR