BEGIN:VCALENDAR
VERSION:2.0
PRODID:-//FMZ - ECPv6.15.17//NONSGML v1.0//EN
CALSCALE:GREGORIAN
METHOD:PUBLISH
X-ORIGINAL-URL:https://frauenmusikzentrum.de
X-WR-CALDESC:Veranstaltungen für FMZ
REFRESH-INTERVAL;VALUE=DURATION:PT1H
X-Robots-Tag:noindex
X-PUBLISHED-TTL:PT1H
BEGIN:VTIMEZONE
TZID:Europe/Berlin
BEGIN:DAYLIGHT
TZOFFSETFROM:+0100
TZOFFSETTO:+0200
TZNAME:CEST
DTSTART:20210328T010000
END:DAYLIGHT
BEGIN:STANDARD
TZOFFSETFROM:+0200
TZOFFSETTO:+0100
TZNAME:CET
DTSTART:20211031T010000
END:STANDARD
BEGIN:DAYLIGHT
TZOFFSETFROM:+0100
TZOFFSETTO:+0200
TZNAME:CEST
DTSTART:20220327T010000
END:DAYLIGHT
BEGIN:STANDARD
TZOFFSETFROM:+0200
TZOFFSETTO:+0100
TZNAME:CET
DTSTART:20221030T010000
END:STANDARD
BEGIN:DAYLIGHT
TZOFFSETFROM:+0100
TZOFFSETTO:+0200
TZNAME:CEST
DTSTART:20230326T010000
END:DAYLIGHT
BEGIN:STANDARD
TZOFFSETFROM:+0200
TZOFFSETTO:+0100
TZNAME:CET
DTSTART:20231029T010000
END:STANDARD
END:VTIMEZONE
BEGIN:VEVENT
DTSTART;TZID=Europe/Berlin:20220903T130000
DTEND;TZID=Europe/Berlin:20220903T170000
DTSTAMP:20260422T092210
CREATED:20220215T121524Z
LAST-MODIFIED:20220308T132801Z
UID:2172-1662210000-1662224400@frauenmusikzentrum.de
SUMMARY:Jazz Vocal Workshop mit Regina Ebinal
DESCRIPTION:Auf der Bühne stehen und Jazz singen? Der Traum wird wahr! Regina Ebinal erarbeitet in ihrem Workshop mit Anfängerinnen* und Fortgeschrittenen Jazz-Standards. Die Teilnehmerinnen* lernen ihre Stimme kennen und verbessern Variation\, Improvisation und Ausdruck. \nVoraussetzung: keine \nKursleiterin: Regina Ebinal (USA/Hamburg) singt bei Radioübertragungen\, Studioproduktionen und verfügt über zahlreiche Live-Auftrittserfahrungen in diversen Jazz-Formationen. Sie unterrichtet als diplomierte Gesangspädagogin und veranstaltet regelmäßig Vocal Workshops und leitet immer wieder Vocal Sessions in Jazzclubs. \nAnmeldung und weitere Informationen:  mail@reginaebinal.de \nWeiterer Termin am 05.11.22
URL:https://frauenmusikzentrum.de/veranstaltung/2172/
LOCATION:Frauenmusikzentrum\, Große Brunnenstr. 63A\, Hamburg\, 22763
CATEGORIES:Workshop
ATTACH;FMTTYPE=image/jpeg:https://frauenmusikzentrum.de/wp-content/uploads/2022/02/Regina-Ebinal-24.jpg
END:VEVENT
BEGIN:VEVENT
DTSTART;TZID=Europe/Berlin:20220905T170000
DTEND;TZID=Europe/Berlin:20220905T190000
DTSTAMP:20260422T092210
CREATED:20220801T223544Z
LAST-MODIFIED:20220801T223544Z
UID:3796-1662397200-1662404400@frauenmusikzentrum.de
SUMMARY:Beatboxing - Teil I  mit Lia Şahin (Anfängerinnen*) - 10 Termine
DESCRIPTION:Im ersten Teil des Beatboxing-Workshops geht es um die Grundlagen des Beatboxing. Was genau ist Beatboxing? Welche Skills gibt es? Wie werden sie umgesetzt?\nEs werden die Techniken der Improvisation und Themen wie Sicherheit und Vertrauen vermittelt. Das gemeinsame Musikmachen auf Augenhöhe und die Motivationsarbeit stehen bei diesem Workshop im Mittelpunkt. \nDer Kurs findet ab dem 08.08.22 an 10 aufeinanderfolgenden Terminen statt für insgesamt 150Euro. \nAnmeldung unter: info@frauenmusikzentrum.de \nKursleiterin: Lia Şahin ist Beatboxerin\, Rapperin\, Produzentin\, HipHopperin und vieles mehr. Dabei ist ihr Stimmapparat eine ganze Band und Soundstudio zugleich. Vor einiger Zeit hat sie sich außerdem dem Produzieren und dem Rappen gewidmet. Nun kombiniert sie all diese Skills miteinander und hat einen ganz eigenen Sound erschaffen.\nBei Lia bedeutet der Ausdruck „Multitalent“ ein ganzes Universum\, denn sie steht in ihren Workshops sowohl Kindern als auch Manager*innen gegenüber und kitzelt aus allen noch ein paar Lippenbeats heraus. \n 
URL:https://frauenmusikzentrum.de/veranstaltung/beatboxing-teil-i-mit-lia-sahin-anfaengerinnen-10-termine-4-4/
LOCATION:Frauenmusikzentrum\, Große Brunnenstr. 63A\, Hamburg\, 22763
CATEGORIES:Beatboxing
ATTACH;FMTTYPE=image/jpeg:https://frauenmusikzentrum.de/wp-content/uploads/2019/03/lia-sahin-beatboxen-square.jpg
ORGANIZER;CN="Frauenmusikzentrum":MAILTO:info@frauenmusikzentrum.de
END:VEVENT
BEGIN:VEVENT
DTSTART;TZID=Europe/Berlin:20220905T193000
DTEND;TZID=Europe/Berlin:20220905T213000
DTSTAMP:20260422T092210
CREATED:20220801T223627Z
LAST-MODIFIED:20220801T223627Z
UID:3798-1662406200-1662413400@frauenmusikzentrum.de
SUMMARY:Beatboxing - Teil II  mit Lia Şahin (Fortgeschrittene) - 10 Termine
DESCRIPTION:Dieser Kurs ist für alle Fortgeschrittenen gedacht\, die sich bereits mit dem Thema Beatboxing auseinandergesetzt haben und die bereits erlernten Skills weiter vertiefen und ausbauen möchten.\nBei den Workshops geht es nicht nur um Stimm- und Rhythmusarbeit\, sondern auch darum\, wie Musik die eigenen Selbstzweifel vertreiben kann. \nDer Kurs findet ab dem 08.08.22 an 10 aufeinanderfolgenden Terminen für insgesamt 150 Euro statt. \nAnmeldung unter: info@frauenmusikzentrum.de \nKursleiterin: Lia Şahin ist Beatboxerin\, Rapperin\, Produzentin\, HipHopperin und vieles mehr. Dabei ist ihr Stimmapparat eine ganze Band und Soundstudio zugleich. Vor einiger Zeit hat sie sich außerdem dem Produzieren und dem Rappen gewidmet. Nun kombiniert sie all diese Skills miteinander und hat einen ganz eigenen Sound erschaffen.\nBei Lia bedeutet der Ausdruck „Multitalent“ ein ganzes Universum\, denn sie steht in ihren Workshops sowohl Kindern als auch Manager*innen gegenüber und kitzelt aus allen noch ein paar Lippenbeats heraus.
URL:https://frauenmusikzentrum.de/veranstaltung/beatboxing-teil-ii-mit-lia-sahin-fortgeschrittene-10-termine-4/
LOCATION:Frauenmusikzentrum\, Große Brunnenstr. 63A\, Hamburg\, 22763
CATEGORIES:Beatboxing
ATTACH;FMTTYPE=image/jpeg:https://frauenmusikzentrum.de/wp-content/uploads/2021/12/lia-sahin.jpeg
END:VEVENT
BEGIN:VEVENT
DTSTART;TZID=Europe/Berlin:20220908T190000
DTEND;TZID=Europe/Berlin:20220908T220000
DTSTAMP:20260422T092210
CREATED:20220804T150919Z
LAST-MODIFIED:20220804T150919Z
UID:3854-1662663600-1662674400@frauenmusikzentrum.de
SUMMARY:Gesang und Songwriting mit Kersty & Sandra Grether
DESCRIPTION:Schreibe und singe deine eigenen Songs!\nWorkshop für Gesang und Songwriting \nMit: Kersty Grether & Sandra Grether / Mehr Infos: www.songstärke10.de\n  \nKomm vorbei mit deinen Skizzen\, Melodien\, Songtexten\, Songs\, Gesangsfragen.  Wir holen dich da ab\, wo du bist!\nWenn du gerne mit Klängen oder Worten experimentierst\, dann bist du bei uns genau richtig. \nIn einer kreativen Atmosphäre lernst du\, eigene Songs zu schreiben oder fertigzustellen – und zu singen.\n  \nSongwriting: \nFinde deinen künstlerischen Ausdruck und Kontext! Bei uns kannst du außerdem lernen\, wie man Musik und Text effektiv miteinander verbindet. \nWir räumen Harmonielehre und Akkordlehre eine große Rolle beim (systematischen) Erarbeiten eines Songs ein\, damit du das Rüstzeug hast für eigene Ideen\, Impulse und Hörerlebnisse – damit aus Handwerk spielerisch Kunstwerk wird. \nDas Gelingen eines Songtextes ist kein Zufall. Überlass es nicht dem Schicksal\, ob dein Publikum aufhorcht. \n  \nModerner Gesangsunterricht mit individuellem Vocal-Coaching. \nOft begegne ich Leuten\, die meinen\, manche Menschen können singen\, andere nicht. Aber mit dem richtigen Unterricht kann man aus jeder Stimme das Bestmögliche machen. Mit Spaß\, Geduld und Sich-Einlassen auf die Übungen. Mit Neugierde und Vertrauen in die körpereigenen Kräfte. \nGesang ist das persönlichste Instrument. Die Stimme ist Ausdruck deiner Persönlichkeit. Bei mir lernst Du deinen Körper (und die Außen-Räume) in die Klangerzeugung miteinzubeziehen und deine Stimme zu finden. Störfaktoren\, die die Freiheit der Stimme behindern\, werden analysiert\, ganz individuell. \nKeine stupide Nachahmung der Lehrerin\, keine Tricks und Manipulationen\, sondern eine spielerische Anleitung zum selbständigen Singen. Ich arbeite mit dir an der Freilegung und Stärkung deines Potentials. Das Erleben von innerer Weite\, und Klangfülle\, sowie das Empfinden von Leichtigkeit\, sind die Folgen. \nFalls gewünscht: Artikulation\, Repertoire und Songinterpretation\, auch für diejenigen\, die eigene Songs schreiben. Sowie ganz praktische Tipps und Anleitung für Bühnen\, Studio und Mikro-Arbeit.\n\nSinge deine Lieblingssongs  – oder lerne deine eigenen Songs noch stärker zu singen! \nKursgebühr: gegen Spende / bitte vorher anmelden unter: info@frauenmusikzentrum.de
URL:https://frauenmusikzentrum.de/veranstaltung/gesang-und-songwriting-mit-kersty-sandra-grether/
LOCATION:Frauenmusikzentrum\, Große Brunnenstr. 63A\, Hamburg\, 22763
CATEGORIES:Workshop
ATTACH;FMTTYPE=image/png:https://frauenmusikzentrum.de/wp-content/uploads/2022/08/The-Doctorella_2022.png-cBohemian-Strawberry-Records.png
ORGANIZER;CN="Frauenmusikzentrum":MAILTO:info@frauenmusikzentrum.de
END:VEVENT
BEGIN:VEVENT
DTSTART;TZID=Europe/Berlin:20220909T190000
DTEND;TZID=Europe/Berlin:20220909T230000
DTSTAMP:20260422T092210
CREATED:20220803T152150Z
LAST-MODIFIED:20220804T110532Z
UID:3823-1662750000-1662764400@frauenmusikzentrum.de
SUMMARY:35 Jahre Jubiläumsfest mit "Ich brauche eine Genie" und "Strips & Stories"
DESCRIPTION:Das f*mz wird 35 – die Jubiläumsparty!\nBohemian Strawberry Records\, Strips & Stories & f*mz präsentieren:\nICH BRAUCHE EINE GENIE goes Hamburg – Popkultur\, Feminismus\, fröhliche Kämpferinnen* & so\nIn Berlin ist die Reihe „Ich Brauche Eine Genie“ systemrelevant für den musikalischen Underground. Die Musikerinnen und Autorinnen Kersty Grether und Sandra Grether veranstalten dort seit 5 Jahren die geniale Reihe. Musikerinnen* betreten schon als Genies die Bühne!“ Es ist klar: der Kult ums „männliche Genie“ muss der Vergangenheit angehören. Das tiefe Vertrauen in die männlichen Fähigkeiten\, das als Kehrseite der Medaille eine ewige Skepsis gegenüber Musikerinnen* in sich trägt. Nun gastiert die Reihe erstmals in Hamburg! Und das Schönste daran: wir feiern gleichzeitig den 35. Birthday des F*mz. Seit sage und schreibe 35 (!) Jahren bietet das Frauenmusikzentrum FLINTA*-Personen eine musikalischePlattform: Divers\, feministisch\, musikalisch  – und genialisch! \nLivemusik:  \n\nLIZZN: spielt Soul und Jazz-getriebenen HipHop! \nMit Loopstation und einer authentisch sympathischen Verpeiltheit lässt LIZZN euch in eine Palette von Emotionen eintauchen\, die ein buntes Gemälde erschaffen: die erste EP der Hamburger Rapperin trägt den Namen “LIZZN to myself”. Darauf singt die Sängerin und Beatboxerin über mentale Gesundheit und toxische Verhältnisse. Motto: „Reflektieren. Haltung zeigen. Betroffenen glauben.“ Mit Hymnen wie „Kein Lovesong“ schafft LIZZN dabei fröhliches Empowerment und Gänsehaut-Harmonien! \nLizzns erste Single „Stille Wasser“ entstand in einer Phase voller Umbrüche und Unsicherheiten. Der Song wirkt dabei jedoch wie eine Erkenntnis ihrer Selbstreflexion\, eine kleine Katharsis\, aus der sie als Künstlerin hervorgeht. „Werte nicht das Aussehen\, rede mit mir einfach“\, so rappt sie auf einem verträumten ChillHop-Beat und zeigt damit\, wie viel Tiefsinnigkeit und Erfahrung in diesem stillen Wasser namens Lizzn steckt. \n  \nTHE DOCTORELLA: spielen New-Wave-Rock-Chansons mit glitterschmetter Textflow! \nIn der Zeitung „neues deutschland“ war neulich zu lesen: „Den Abend eröffneten die Gastgeberinnen mit neuen Stücken ihrer immer wieder erstaunlichen Band The Doctorella\, die auf dem nächsten Album erscheinen werden\, darunter auch das witzige »Wenn wir tot wären«\, dessen Text eine ziemlich gute Frage stellt … Live entwickeln The Doctorella die phänomenal aufstachelnde Energie der amerikanischen Riot-Grrrl-Band Bikini Kill um 1993. Beide Grethers singen wie eine selbstbewusste Francoise Hardy\, die dabei so lässig erzählend klingt wie Dirk von Lowtzow von Tocotronic.“ (Kristof Schreuf in „neues deutschland“. Über: „Ich Brauche Eine Genie“ am 29.06.2022). \n  \nIn Kooperation mit dem Buchladen „Strips & Stories“ gibt es folgende Lesungen: \nComic-Lesung: \nLINA EHRENTRAUT: macht Zines\, Comics\, Illustrationen\, Fashion und Lesungen! \n„Da steht nicht nur der Titel Kopf“ schrieb die FAZ anlässlich der ihres gefeierten Comic „Melek + ich“ (2021\, Editon Moderne). Darin lässt sich Lina vom Alltag genauso wie von Science-Fiction Elementen inspirieren:  Nici ist Wissenschaftlerin und betrinkt sich gern in der Bar nebenan. Heimlich baut sie Melek\, einen Körper\, mit dem sie in parallele Dimensionen reisen kann… Am liebsten verbindet Lina  genial alles miteinander. Dann tauchen Kleidungsstücke in den Comics auf oder werden zu raumgreifenden Installationen. \nMusikalische Lesung: \nAußerdem lesen Kersty und Sandra ihre Texte aus der gerade erschienen Anthologie „These Girls Too“ (Ventil Verlag\, Hrsg Juliane Streich) und stellen Lyrics aus  den von ihnen 2021 herausgegebenen Songbook „Ich Brauche Eine Genie“ vor. \n„Ich brauche eine Genie“ versammelt  herausragende Songtexte von 70 Musikerinnen verschiedener Jahrzehnte und Genres in Deutschland. Dazu gibt es Begleitakkorde\, Fotos\, Plattencover\, Archivmaterial. Eine Wundertüte popkultureller Musikgeschichte. \nAll gender welcome!! \n  \nDie Veranstaltung wird gefördert von Neustart Kultur.
URL:https://frauenmusikzentrum.de/veranstaltung/jubilaeumsfest-35-jahre/
LOCATION:Musikbunker\, Feldstraße 66\, Hamburg\, 20359\, Germany
CATEGORIES:Veranstaltung
ATTACH;FMTTYPE=image/png:https://frauenmusikzentrum.de/wp-content/uploads/2022/08/Genie19_WEB_RGB.png
END:VEVENT
BEGIN:VEVENT
DTSTART;TZID=Europe/Berlin:20220914T190000
DTEND;TZID=Europe/Berlin:20220914T210000
DTSTAMP:20260422T092210
CREATED:20220629T114558Z
LAST-MODIFIED:20220802T102734Z
UID:3721-1663182000-1663189200@frauenmusikzentrum.de
SUMMARY:f*mz Ukulelistas mit Angela Gobelin
DESCRIPTION:Ein regelmässiges Treffen für Frauen\, die Ukulele spielen\, egal wie lang\, wie gut. \nWir wollen regelmässig miteinander spielen\, Tipps rund um die Ukulele austauschen und Gelerntes aus Ukulele-Workshops in die Praxis umsetzen. Bringt gerne Songs mit\, die ihr spielen möchtet oder schickt sie mir vorher. Auch gern Bariton und Bassukulele-Spielerinnen! \nIch freu mich auf euch \nAngela
URL:https://frauenmusikzentrum.de/veranstaltung/fmz-ukulelistas-mit-angela-gobelin-2/
LOCATION:Frauenmusikzentrum\, Große Brunnenstr. 63A\, Hamburg\, 22763
CATEGORIES:Ukulele
ATTACH;FMTTYPE=image/jpeg:https://frauenmusikzentrum.de/wp-content/uploads/2022/03/Ukulele2.jpg
ORGANIZER;CN="Frauenmusikzentrum":MAILTO:info@frauenmusikzentrum.de
END:VEVENT
END:VCALENDAR