BEGIN:VCALENDAR
VERSION:2.0
PRODID:-//FMZ - ECPv6.15.17//NONSGML v1.0//EN
CALSCALE:GREGORIAN
METHOD:PUBLISH
X-ORIGINAL-URL:https://frauenmusikzentrum.de
X-WR-CALDESC:Veranstaltungen für FMZ
REFRESH-INTERVAL;VALUE=DURATION:PT1H
X-Robots-Tag:noindex
X-PUBLISHED-TTL:PT1H
BEGIN:VTIMEZONE
TZID:Europe/Berlin
BEGIN:DAYLIGHT
TZOFFSETFROM:+0100
TZOFFSETTO:+0200
TZNAME:CEST
DTSTART:20210328T010000
END:DAYLIGHT
BEGIN:STANDARD
TZOFFSETFROM:+0200
TZOFFSETTO:+0100
TZNAME:CET
DTSTART:20211031T010000
END:STANDARD
BEGIN:DAYLIGHT
TZOFFSETFROM:+0100
TZOFFSETTO:+0200
TZNAME:CEST
DTSTART:20220327T010000
END:DAYLIGHT
BEGIN:STANDARD
TZOFFSETFROM:+0200
TZOFFSETTO:+0100
TZNAME:CET
DTSTART:20221030T010000
END:STANDARD
BEGIN:DAYLIGHT
TZOFFSETFROM:+0100
TZOFFSETTO:+0200
TZNAME:CEST
DTSTART:20230326T010000
END:DAYLIGHT
BEGIN:STANDARD
TZOFFSETFROM:+0200
TZOFFSETTO:+0100
TZNAME:CET
DTSTART:20231029T010000
END:STANDARD
END:VTIMEZONE
BEGIN:VEVENT
DTSTART;TZID=Europe/Berlin:20220502T170000
DTEND;TZID=Europe/Berlin:20220502T190000
DTSTAMP:20260421T144902
CREATED:20220213T120211Z
LAST-MODIFIED:20220310T155401Z
UID:2020-1651510800-1651518000@frauenmusikzentrum.de
SUMMARY:Beatboxing - Teil I  mit Lia Şahin (Anfängerinnen*) - 10 Termine
DESCRIPTION:Im ersten Teil des Beatboxing-Workshops geht es um die Grundlagen des Beatboxing. Was genau ist Beatboxing? Welche Skills gibt es? Wie werden sie umgesetzt?\nEs werden die Techniken der Improvisation und Themen wie Sicherheit und Vertrauen vermittelt. Das gemeinsame Musikmachen auf Augenhöhe und die Motivationsarbeit stehen bei diesem Workshop im Mittelpunkt. \nDer Kurs findet ab dem 07.03.22 an 10 aufeinanderfolgenden Terminen statt. \nAnmeldung unter: info@frauenmusikzentrum.de \nKursleiterin: Lia Şahin ist Beatboxerin\, Rapperin\, Produzentin\, HipHopperin und vieles mehr. Dabei ist ihr Stimmapparat eine ganze Band und Soundstudio zugleich. Vor einiger Zeit hat sie sich außerdem dem Produzieren und dem Rappen gewidmet. Nun kombiniert sie all diese Skills miteinander und hat einen ganz eigenen Sound erschaffen.\nBei Lia bedeutet der Ausdruck „Multitalent“ ein ganzes Universum\, denn sie steht in ihren Workshops sowohl Kindern als auch Manager*innen gegenüber und kitzelt aus allen noch ein paar Lippenbeats heraus.
URL:https://frauenmusikzentrum.de/veranstaltung/beatboxing-teil-i-mit-lia-sahin/
LOCATION:Frauenmusikzentrum\, Große Brunnenstr. 63A\, Hamburg\, 22763
CATEGORIES:Beatboxing
ATTACH;FMTTYPE=image/jpeg:https://frauenmusikzentrum.de/wp-content/uploads/2019/03/lia-sahin-beatboxen-square.jpg
END:VEVENT
BEGIN:VEVENT
DTSTART;TZID=Europe/Berlin:20220502T190000
DTEND;TZID=Europe/Berlin:20220502T213000
DTSTAMP:20260421T144902
CREATED:20220213T124344Z
LAST-MODIFIED:20220310T153502Z
UID:2053-1651518000-1651527000@frauenmusikzentrum.de
SUMMARY:Beatboxing - Teil II  mit Lia Şahin (Fortgeschrittene) - 10 Termine
DESCRIPTION:Dieser Kurs ist für alle Fortgeschrittenen gedacht\, die sich bereits mit dem Thema Beatboxing auseinandergesetzt haben und die bereits erlernten Skills weiter vertiefen und ausbauen möchten.\nBei den Workshops geht es nicht nur um Stimm- und Rhythmusarbeit\, sondern auch darum\, wie Musik die eigenen Selbstzweifel vertreiben kann. \nDer Kurs findet ab dem 07.03.22 an 10 aufeinanderfolgenden Terminen statt. \nAnmeldung unter: info@frauenmusikzentrum.de \nKursleiterin: \nLia Şahin
URL:https://frauenmusikzentrum.de/veranstaltung/beatboxing-teil-ii-mit-lia-sahin-fortgeschrittene-7/
LOCATION:Frauenmusikzentrum\, Große Brunnenstr. 63A\, Hamburg\, 22763
CATEGORIES:Beatboxing
ATTACH;FMTTYPE=image/jpeg:https://frauenmusikzentrum.de/wp-content/uploads/2021/12/lia-sahin.jpeg
END:VEVENT
BEGIN:VEVENT
DTSTART;TZID=Europe/Berlin:20220509T170000
DTEND;TZID=Europe/Berlin:20220509T190000
DTSTAMP:20260421T144902
CREATED:20220213T120347Z
LAST-MODIFIED:20220310T155228Z
UID:2023-1652115600-1652122800@frauenmusikzentrum.de
SUMMARY:Beatboxing - Teil I  mit Lia Şahin (Anfängerinnen*) -10 Termine
DESCRIPTION:Im ersten Teil des Beatboxing-Workshops geht es um die Grundlagen des Beatboxing. Was genau ist Beatboxing? Welche Skills gibt es? Wie werden sie umgesetzt?\nEs werden die Techniken der Improvisation und Themen wie Sicherheit und Vertrauen vermittelt. Das gemeinsame Musikmachen auf Augenhöhe und die Motivationsarbeit stehen bei diesem Workshop im Mittelpunkt. \nDer Kurs findet ab dem 07.03.22 an 10 aufeinanderfolgenden Terminen statt. \nAnmeldung unter: info@frauenmusikzentrum.de \nKursleiterin: Lia Şahin ist Beatboxerin\, Rapperin\, Produzentin\, HipHopperin und vieles mehr. Dabei ist ihr Stimmapparat eine ganze Band und Soundstudio zugleich. Vor einiger Zeit hat sie sich außerdem dem Produzieren und dem Rappen gewidmet. Nun kombiniert sie all diese Skills miteinander und hat einen ganz eigenen Sound erschaffen.\nBei Lia bedeutet der Ausdruck „Multitalent“ ein ganzes Universum\, denn sie steht in ihren Workshops sowohl Kindern als auch Manager*innen gegenüber und kitzelt aus allen noch ein paar Lippenbeats heraus.
URL:https://frauenmusikzentrum.de/veranstaltung/beatboxing-teil-i-mit-lia-sahin-anfaengerinnen-8/
LOCATION:Frauenmusikzentrum\, Große Brunnenstr. 63A\, Hamburg\, 22763
CATEGORIES:Beatboxing
ATTACH;FMTTYPE=image/jpeg:https://frauenmusikzentrum.de/wp-content/uploads/2019/03/lia-sahin-beatboxen-square.jpg
END:VEVENT
BEGIN:VEVENT
DTSTART;TZID=Europe/Berlin:20220509T193000
DTEND;TZID=Europe/Berlin:20220509T213000
DTSTAMP:20260421T144902
CREATED:20220213T125533Z
LAST-MODIFIED:20220310T153126Z
UID:2059-1652124600-1652131800@frauenmusikzentrum.de
SUMMARY:Beatboxing - Teil II  mit Lia Şahin (Fortgeschrittene) - 10 Termine
DESCRIPTION:Dieser Kurs ist für alle Fortgeschrittenen gedacht\, die sich bereits mit dem Thema Beatboxing auseinandergesetzt haben und die bereits erlernten Skills weiter vertiefen und ausbauen möchten.\nBei den Workshops geht es nicht nur um Stimm- und Rhythmusarbeit\, sondern auch darum\, wie Musik die eigenen Selbstzweifel vertreiben kann. \nDer Kurs findet ab dem 07.03.22 an 10 aufeinanderfolgenden Terminen statt. \nAnmeldung unter: info@frauenmusikzentrum.de \nKursleiterin: Lia Şahin ist Beatboxerin\, Rapperin\, Produzentin\, HipHopperin und vieles mehr. Dabei ist ihr Stimmapparat eine ganze Band und Soundstudio zugleich. Vor einiger Zeit hat sie sich außerdem dem Produzieren und dem Rappen gewidmet. Nun kombiniert sie all diese Skills miteinander und hat einen ganz eigenen Sound erschaffen.\nBei Lia bedeutet der Ausdruck „Multitalent“ ein ganzes Universum\, denn sie steht in ihren Workshops sowohl Kindern als auch Manager*innen gegenüber und kitzelt aus allen noch ein paar Lippenbeats heraus.
URL:https://frauenmusikzentrum.de/veranstaltung/beatboxing-teil-ii-mit-lia-sahin-fortgeschrittene-10/
LOCATION:Frauenmusikzentrum\, Große Brunnenstr. 63A\, Hamburg\, 22763
CATEGORIES:Beatboxing
ATTACH;FMTTYPE=image/jpeg:https://frauenmusikzentrum.de/wp-content/uploads/2021/12/lia-sahin.jpeg
END:VEVENT
BEGIN:VEVENT
DTSTART;TZID=Europe/Berlin:20220511T190000
DTEND;TZID=Europe/Berlin:20220511T210000
DTSTAMP:20260421T144902
CREATED:20220317T142404Z
LAST-MODIFIED:20220323T112140Z
UID:3517-1652295600-1652302800@frauenmusikzentrum.de
SUMMARY:f*mz Ukulelistas
DESCRIPTION:Ein regelmässiges Treffen für Frauen\, die Ukulele spielen\, egal wie lang\, wie gut. \nWir wollen regelmässig miteinander spielen\, Tipps rund um die Ukulele austauschen und Gelerntes aus Ukulele-Workshops in die Praxis umsetzen. Bringt gerne Songs mit\, die ihr spielen möchtet oder schickt sie mir vorher. Auch gern Bariton und Bassukulele-Spielerinnen! \nDie ersten Termine sind der 11.05.22 und der 15.06.22\, jeweils ab 19 Uhr. \nIch freu mich auf euch \nAngela
URL:https://frauenmusikzentrum.de/veranstaltung/fmz-ukulelistas/
LOCATION:Frauenmusikzentrum\, Große Brunnenstr. 63A\, Hamburg\, 22763
CATEGORIES:Ukulele
ATTACH;FMTTYPE=image/jpeg:https://frauenmusikzentrum.de/wp-content/uploads/2022/03/Ukulele2.jpg
ORGANIZER;CN="Frauenmusikzentrum":MAILTO:info@frauenmusikzentrum.de
END:VEVENT
BEGIN:VEVENT
DTSTART;TZID=Europe/Berlin:20220514T130000
DTEND;TZID=Europe/Berlin:20220514T170000
DTSTAMP:20260421T144902
CREATED:20220215T121325Z
LAST-MODIFIED:20220308T130533Z
UID:2169-1652533200-1652547600@frauenmusikzentrum.de
SUMMARY:Jazz Vocal Workshop mit Regina Ebinal
DESCRIPTION:Auf der Bühne stehen und Jazz singen? Der Traum wird wahr! Regina Ebinal erarbeitet in ihrem Workshop mit Anfängerinnen* und Fortgeschrittenen Jazz-Standards. Die Teilnehmerinnen* lernen ihre Stimme kennen und verbessern Variation\, Improvisation und Ausdruck. \nVoraussetzung: keine \nKursleiterin: Regina Ebinal (USA/Hamburg) singt bei Radioübertragungen\, Studioproduktionen und verfügt über zahlreiche Live-Auftrittserfahrungen in diversen Jazz-Formationen. Sie unterrichtet als diplomierte Gesangspädagogin und veranstaltet regelmäßig Vocal Workshops und leitet immer wieder Vocal Sessions in Jazzclubs. \nAnmeldung und weitere Informationen:  mail@reginaebinal.de \n(weitere Termine am: 03.09.22 und am 05.11.2022)
URL:https://frauenmusikzentrum.de/veranstaltung/jazz-vocal-workshop-mit-regina-ebinal/
LOCATION:Frauenmusikzentrum\, Große Brunnenstr. 63A\, Hamburg\, 22763
CATEGORIES:Workshop
ATTACH;FMTTYPE=image/jpeg:https://frauenmusikzentrum.de/wp-content/uploads/2022/02/Regina-Ebinal-24.jpg
END:VEVENT
BEGIN:VEVENT
DTSTART;TZID=Europe/Berlin:20220516T170000
DTEND;TZID=Europe/Berlin:20220516T190000
DTSTAMP:20260421T144902
CREATED:20220213T115958Z
LAST-MODIFIED:20220310T155609Z
UID:2016-1652720400-1652727600@frauenmusikzentrum.de
SUMMARY:Beatboxing - Teil I  mit Lia Şahin (Anfängerinnen*) - 10 Termine
DESCRIPTION:Im ersten Teil des Beatboxing-Workshops geht es um die Grundlagen des Beatboxing. Was genau ist Beatboxing? Welche Skills gibt es? Wie werden sie umgesetzt?\nEs werden die Techniken der Improvisation und Themen wie Sicherheit und Vertrauen vermittelt. Das gemeinsame Musikmachen auf Augenhöhe und die Motivationsarbeit stehen bei diesem Workshop im Mittelpunkt. \nDer Kurs findet ab dem 07.03.22 an 10 aufeinanderfolgenden Terminen statt. \nAnmeldung unter: info@frauenmusikzentrum.de \nKursleiterin: Lia Şahin ist Beatboxerin\, Rapperin\, Produzentin\, HipHopperin und vieles mehr. Dabei ist ihr Stimmapparat eine ganze Band und Soundstudio zugleich. Vor einiger Zeit hat sie sich außerdem dem Produzieren und dem Rappen gewidmet. Nun kombiniert sie all diese Skills miteinander und hat einen ganz eigenen Sound erschaffen.\nBei Lia bedeutet der Ausdruck „Multitalent“ ein ganzes Universum\, denn sie steht in ihren Workshops sowohl Kindern als auch Manager*innen gegenüber und kitzelt aus allen noch ein paar Lippenbeats heraus. \n  \n  \n 
URL:https://frauenmusikzentrum.de/veranstaltung/beatboxing-teil-i-mit-lia-sahin-anfaengerinnen-6/
LOCATION:Frauenmusikzentrum\, Große Brunnenstr. 63A\, Hamburg\, 22763
CATEGORIES:Beatboxing
ATTACH;FMTTYPE=image/jpeg:https://frauenmusikzentrum.de/wp-content/uploads/2019/03/lia-sahin-beatboxen-square.jpg
END:VEVENT
BEGIN:VEVENT
DTSTART;TZID=Europe/Berlin:20220523T170000
DTEND;TZID=Europe/Berlin:20220523T190000
DTSTAMP:20260421T144902
CREATED:20220413T105338Z
LAST-MODIFIED:20220413T105338Z
UID:3585-1653325200-1653332400@frauenmusikzentrum.de
SUMMARY:Beatboxing - Teil I  mit Lia Şahin (Anfängerinnen*) -10 Termine
DESCRIPTION:Im ersten Teil des Beatboxing-Workshops geht es um die Grundlagen des Beatboxing. Was genau ist Beatboxing? Welche Skills gibt es? Wie werden sie umgesetzt?\nEs werden die Techniken der Improvisation und Themen wie Sicherheit und Vertrauen vermittelt. Das gemeinsame Musikmachen auf Augenhöhe und die Motivationsarbeit stehen bei diesem Workshop im Mittelpunkt. \nDer Kurs findet seit März an 10 aufeinanderfolgenden Terminen statt. \nAnmeldung unter: info@frauenmusikzentrum.de \nKursleiterin: Lia Şahin ist Beatboxerin\, Rapperin\, Produzentin\, HipHopperin und vieles mehr. Dabei ist ihr Stimmapparat eine ganze Band und Soundstudio zugleich. Vor einiger Zeit hat sie sich außerdem dem Produzieren und dem Rappen gewidmet. Nun kombiniert sie all diese Skills miteinander und hat einen ganz eigenen Sound erschaffen.\nBei Lia bedeutet der Ausdruck „Multitalent“ ein ganzes Universum\, denn sie steht in ihren Workshops sowohl Kindern als auch Manager*innen gegenüber und kitzelt aus allen noch ein paar Lippenbeats heraus.
URL:https://frauenmusikzentrum.de/veranstaltung/beatboxing-teil-i-mit-lia-sahin-anfaengerinnen-10-termine/
LOCATION:Frauenmusikzentrum\, Große Brunnenstr. 63A\, Hamburg\, 22763
CATEGORIES:Beatboxing
ATTACH;FMTTYPE=image/jpeg:https://frauenmusikzentrum.de/wp-content/uploads/2019/03/lia-sahin-beatboxen-square.jpg
END:VEVENT
BEGIN:VEVENT
DTSTART;TZID=Europe/Berlin:20220523T193000
DTEND;TZID=Europe/Berlin:20220523T213000
DTSTAMP:20260421T144902
CREATED:20220413T105604Z
LAST-MODIFIED:20220413T110515Z
UID:3587-1653334200-1653341400@frauenmusikzentrum.de
SUMMARY:Beatboxing - Teil II  mit Lia Şahin (Fortgeschrittene) - 10 Termine
DESCRIPTION:Dieser Kurs ist für alle Fortgeschrittenen gedacht\, die sich bereits mit dem Thema Beatboxing auseinandergesetzt haben und die bereits erlernten Skills weiter vertiefen und ausbauen möchten.\nBei den Workshops geht es nicht nur um Stimm- und Rhythmusarbeit\, sondern auch darum\, wie Musik die eigenen Selbstzweifel vertreiben kann. \nDer Kurs findet seit März an 10 aufeinanderfolgenden Terminen statt. \nAnmeldung unter: info@frauenmusikzentrum.de \nKursleiterin: Lia Şahin ist Beatboxerin\, Rapperin\, Produzentin\, HipHopperin und vieles mehr. Dabei ist ihr Stimmapparat eine ganze Band und Soundstudio zugleich. Vor einiger Zeit hat sie sich außerdem dem Produzieren und dem Rappen gewidmet. Nun kombiniert sie all diese Skills miteinander und hat einen ganz eigenen Sound erschaffen.\nBei Lia bedeutet der Ausdruck „Multitalent“ ein ganzes Universum\, denn sie steht in ihren Workshops sowohl Kindern als auch Manager*innen gegenüber und kitzelt aus allen noch ein paar Lippenbeats heraus.
URL:https://frauenmusikzentrum.de/veranstaltung/beatboxing-teil-ii-mit-lia-sahin-fortgeschrittene-10-termine/
LOCATION:Frauenmusikzentrum\, Große Brunnenstr. 63A\, Hamburg\, 22763
CATEGORIES:Beatboxing
ATTACH;FMTTYPE=image/jpeg:https://frauenmusikzentrum.de/wp-content/uploads/2021/12/lia-sahin.jpeg
END:VEVENT
BEGIN:VEVENT
DTSTART;TZID=Europe/Berlin:20220528T130000
DTEND;TZID=Europe/Berlin:20220528T190000
DTSTAMP:20260421T144902
CREATED:20220419T124338Z
LAST-MODIFIED:20220519T130030Z
UID:3615-1653742800-1653764400@frauenmusikzentrum.de
SUMMARY:Licht- und Technikworkshop für FLINTA* mit Peta Devlin und Kristina Hoffmann
DESCRIPTION:In diesem Workshop werden die Grundlagen von Licht und Technik im Veranstaltungsbereich vermittelt. \nIn der ersten Hälfte erklärt euch Peta Devlin\, wie eine Band auf der Bühne sinnvoll platziert wird und welche technischen Herausforderungen entstehen. Wie mikrophoniere ich richtig? Was ist eine DI-Box und wofür brauche ich diese? Wie wird alles verbunden und verkabelt\, und was passiert genau am Mischpult? Wie gelingt mir ein ausgewogener Mix? sind u.a. Fragen\, denen auf den Grund gegangen wird. \nEin kleiner Einblick für alle\, die sich für Tontechnik im Live Bereich interessieren. Keine Vorkenntnisse notwendig. \nDie zweite Hälfte befasst sich primär mit Bühnenlicht. Was macht Licht mit der Bühnenatmosphäre? Welche Farbkombinationen wirken wie? Wie platziere ich das Bühnenlicht am sinnvollsten? Neben der Wahrnehmung von Raum wird mit dem Bühnenlicht auch die Aufmerksamkeit und Konzentration des Publikums gelenkt. Durch eine gute Lichtsetzung lassen wir die Personen auf der Bühne plastischer wirken und Licht beeinflusst auch emotional. Es heißt nicht umsonst „Lichtstimmung“. Kristina Hoffmann wird euch durch den zweiten Teil des Workshops leiten und erklären\, wie man mit gut eingesetztem Licht viel Wirkung erreichen kann. \nDie Teilnehmerinnen* haben zusätzlich am 02.06.22 die Möglichkeit ihr Erlerntes bei einer FEM*-JAM-Session im Haus Drei in Begleitung in der Praxis zu üben und umzusetzen.  \nAnmeldung unter: info@frauenmusikzentrum.de \nDer Workshop findet im Haus Drei\, Hospitalstr. 107 ab 13 Uhr statt. \nDozentinnen: Peta Devlin und Kristina Hoffmann
URL:https://frauenmusikzentrum.de/veranstaltung/licht-und-technikworkshop/
LOCATION:Musikbunker\, Feldstraße 66\, Hamburg\, 20359\, Germany
CATEGORIES:Workshop
ATTACH;FMTTYPE=image/png:https://frauenmusikzentrum.de/wp-content/uploads/2022/04/Licht-Technik-ws.png
END:VEVENT
BEGIN:VEVENT
DTSTART;TZID=Europe/Berlin:20220531T200000
DTEND;TZID=Europe/Berlin:20220531T200000
DTSTAMP:20260421T144902
CREATED:20220428T223601Z
LAST-MODIFIED:20220428T223740Z
UID:3631-1654027200-1654027200@frauenmusikzentrum.de
SUMMARY:Kostenloses Webinar von Raketerei: Mehr Reichweite in der Musikbranche
DESCRIPTION:Das Frauenmusikzentrum empfielt das Webinar von Raketerei: \nHast du das Gefühl\, niemand hört deine Musik? ODER \nHast du den Eindruck\, dass niemand deine Musik wahrnimmt? ODER \nWillst du\, dass deine Musik gehört wird? ODER \nWünschst du dir eine Fan-Community? \n  \n❌ Melde dich hier für das Webinar am 31. Mai 2022 um 20 Uhr an. \nErfahre: \n✅ … welche 5 Schritte du gehen musst\, um sichtbar zu werden.\n✅ … welche 3 Fehler du vermeiden solltest\, wenn deine Musik gehört werden soll.\n✅ … warum du nicht 1 Minute warten solltest\, entdeckt zu werden. \nWer ich bin? \n🚀 Ich bin Imke\, die Gründerin von RAKETEREI – der beliebtesten Musikerinnen-Community im deutschsprachigen Raum. \n🚀 Als Mentorin\, Ideengeberin und Partnerin in Crime unterstütze ich Künstlerinnen dabei\, sich eine profitable musikalische Karriere aufzubauen. \n🚀 RAKETEREI ist die Räuberleiter für Musikerinnen in die Musikbranche. \nIch freue mich auf dich und einen wunderbaren Abend mit jeder Menge Input und Zeit für deine Fragen! ❤️
URL:https://frauenmusikzentrum.de/veranstaltung/webinar-raketerei/
CATEGORIES:Workshop
END:VEVENT
END:VCALENDAR