BEGIN:VCALENDAR
VERSION:2.0
PRODID:-//FMZ - ECPv6.15.17//NONSGML v1.0//EN
CALSCALE:GREGORIAN
METHOD:PUBLISH
X-ORIGINAL-URL:https://frauenmusikzentrum.de
X-WR-CALDESC:Veranstaltungen für FMZ
REFRESH-INTERVAL;VALUE=DURATION:PT1H
X-Robots-Tag:noindex
X-PUBLISHED-TTL:PT1H
BEGIN:VTIMEZONE
TZID:Europe/Berlin
BEGIN:DAYLIGHT
TZOFFSETFROM:+0100
TZOFFSETTO:+0200
TZNAME:CEST
DTSTART:20220327T010000
END:DAYLIGHT
BEGIN:STANDARD
TZOFFSETFROM:+0200
TZOFFSETTO:+0100
TZNAME:CET
DTSTART:20221030T010000
END:STANDARD
BEGIN:DAYLIGHT
TZOFFSETFROM:+0100
TZOFFSETTO:+0200
TZNAME:CEST
DTSTART:20230326T010000
END:DAYLIGHT
BEGIN:STANDARD
TZOFFSETFROM:+0200
TZOFFSETTO:+0100
TZNAME:CET
DTSTART:20231029T010000
END:STANDARD
BEGIN:DAYLIGHT
TZOFFSETFROM:+0100
TZOFFSETTO:+0200
TZNAME:CEST
DTSTART:20240331T010000
END:DAYLIGHT
BEGIN:STANDARD
TZOFFSETFROM:+0200
TZOFFSETTO:+0100
TZNAME:CET
DTSTART:20241027T010000
END:STANDARD
END:VTIMEZONE
BEGIN:VEVENT
DTSTART;TZID=Europe/Berlin:20230326T120000
DTEND;TZID=Europe/Berlin:20230326T160000
DTSTAMP:20260423T004540
CREATED:20221214T122420Z
LAST-MODIFIED:20230314T210944Z
UID:4013-1679832000-1679846400@frauenmusikzentrum.de
SUMMARY:BeatSchwestern Body-Percussion-Chor
DESCRIPTION:BeatSchwestern starten Body-Percussion-Chor\nDie “BeatSchwestern“ sind der rhythmusbewegte Frauen*-Chor in Hamburg – der Chor\, der auch den Groove macht! Für das Jahresprojekt 2023 werden jetzt neue Mitspielerinnen* gesucht\, die Lust auf einen Body-Percussion-Chor haben. \nBody-Percussion-Chor bedeutet: wir machen mit unserem Körper den Rhythmus\, mit Klatschen\, Schnipsen\, Füßen\, und mehr…. und dann singen wir auch noch mehrstimmig dazu. \n  \nBitte melde dich vorher per Mail: hunkay@web.de an. \n  \nDas Projekt mit dem Wochenende 25.+ 26. März 2023 (Samstag 12-18 Uhr\, Sonntag 12-16 Uhr) \nDie Proben-Sonntage sind: 23. April\, 04. Juni\, 13. August\, 24. September\, 29. Oktober\, 26. November\, jeweils von 12-17.30 Uhr inkl. Pausen.  \nAuftritte sind für 2024 geplant. \n  \n*Kosten: \nWochenende 25. + 26.03.2023: 120\,- EUR\nSonntage 12-17.30 Uhr jeweils 80\,- EUR (ermäßigt 65\,- EUR)\nAbschlusswochenende mit Konzert im Januar 2024: 120\,- EUR \nDas Jahresprojekt wird als Ganzes gebucht; Ratenzahlung ist möglich! \n  \nFrauen*/FLINTA= Frauen\, Lesben\, Inter\, Non-binär\, Trans\, A-Gender
URL:https://frauenmusikzentrum.de/veranstaltung/beatschwestern-body-percussion-chor-2/
LOCATION:Motte\, Eulenstr. 43\, Hamburg\, 22765
CATEGORIES:Bodypercussion,Workshop
ATTACH;FMTTYPE=image/jpeg:https://frauenmusikzentrum.de/wp-content/uploads/2022/12/A-Quadrat-600x400-1.jpg
END:VEVENT
BEGIN:VEVENT
DTSTART;TZID=Europe/Berlin:20230326T163000
DTEND;TZID=Europe/Berlin:20230326T220000
DTSTAMP:20260423T004540
CREATED:20230314T211952Z
LAST-MODIFIED:20230314T212109Z
UID:4336-1679848200-1679868000@frauenmusikzentrum.de
SUMMARY:Wohnzimmerkonzert mit String Action
DESCRIPTION:String Action Lieblingssongs – \nein “Wohnzimmerkonzert“\nString Action\, das sind:Kirsten Lemcke (git/voc)\, Kathrin Eßmann (git /voc) Gabi Hano (eb/voc) \nWir möchten euch herzlich zu unserem Kickoff\, Premiere\, Generalprobe\, Werkschau… zu unserem ersten Programm und ersten Konzert einladen. Lieblingssongs sind einige unserer favourites aus Folk\, Country\, Blues ... \nWir freuen uns\, wenn ihr kommt\, vielleicht noch jemanden mitbringt\, und uns hinterher ein Feedback gebt – und euch von uns einen Nachmittag lang musikalisch unterhalten lasst. \nWann?! 26. März 23 / 16.30 h (Einlass)\, 17 h geht es los.Wo? Fmz (Frauenmusikzentrum)Große Brunnenstraße 63a\, in Ottensen / Altona (Hinterhof)Eintritt: Hutkasse – wenn ihr mögt und es euch gefällt \nEs gibt Schnittchen – und einen Tresen mit Getränken zum Preis des Veranstaltungsortes.
URL:https://frauenmusikzentrum.de/veranstaltung/stringaction_konzert/
LOCATION:Frauenmusikzentrum\, Große Brunnenstr. 63A\, Hamburg\, 22763
CATEGORIES:Band
ATTACH;FMTTYPE=image/jpeg:https://frauenmusikzentrum.de/wp-content/uploads/2022/11/DSC_4141.jpeg
END:VEVENT
END:VCALENDAR