BEGIN:VCALENDAR
VERSION:2.0
PRODID:-//FMZ - ECPv6.15.17//NONSGML v1.0//EN
CALSCALE:GREGORIAN
METHOD:PUBLISH
X-ORIGINAL-URL:https://frauenmusikzentrum.de
X-WR-CALDESC:Veranstaltungen für FMZ
REFRESH-INTERVAL;VALUE=DURATION:PT1H
X-Robots-Tag:noindex
X-PUBLISHED-TTL:PT1H
BEGIN:VTIMEZONE
TZID:Europe/Berlin
BEGIN:DAYLIGHT
TZOFFSETFROM:+0100
TZOFFSETTO:+0200
TZNAME:CEST
DTSTART:20210328T010000
END:DAYLIGHT
BEGIN:STANDARD
TZOFFSETFROM:+0200
TZOFFSETTO:+0100
TZNAME:CET
DTSTART:20211031T010000
END:STANDARD
BEGIN:DAYLIGHT
TZOFFSETFROM:+0100
TZOFFSETTO:+0200
TZNAME:CEST
DTSTART:20220327T010000
END:DAYLIGHT
BEGIN:STANDARD
TZOFFSETFROM:+0200
TZOFFSETTO:+0100
TZNAME:CET
DTSTART:20221030T010000
END:STANDARD
BEGIN:DAYLIGHT
TZOFFSETFROM:+0100
TZOFFSETTO:+0200
TZNAME:CEST
DTSTART:20230326T010000
END:DAYLIGHT
BEGIN:STANDARD
TZOFFSETFROM:+0200
TZOFFSETTO:+0100
TZNAME:CET
DTSTART:20231029T010000
END:STANDARD
END:VTIMEZONE
BEGIN:VEVENT
DTSTART;TZID=Europe/Berlin:20220909T190000
DTEND;TZID=Europe/Berlin:20220909T230000
DTSTAMP:20260422T105539
CREATED:20220803T152150Z
LAST-MODIFIED:20220804T110532Z
UID:3823-1662750000-1662764400@frauenmusikzentrum.de
SUMMARY:35 Jahre Jubiläumsfest mit "Ich brauche eine Genie" und "Strips & Stories"
DESCRIPTION:Das f*mz wird 35 – die Jubiläumsparty!\nBohemian Strawberry Records\, Strips & Stories & f*mz präsentieren:\nICH BRAUCHE EINE GENIE goes Hamburg – Popkultur\, Feminismus\, fröhliche Kämpferinnen* & so\nIn Berlin ist die Reihe „Ich Brauche Eine Genie“ systemrelevant für den musikalischen Underground. Die Musikerinnen und Autorinnen Kersty Grether und Sandra Grether veranstalten dort seit 5 Jahren die geniale Reihe. Musikerinnen* betreten schon als Genies die Bühne!“ Es ist klar: der Kult ums „männliche Genie“ muss der Vergangenheit angehören. Das tiefe Vertrauen in die männlichen Fähigkeiten\, das als Kehrseite der Medaille eine ewige Skepsis gegenüber Musikerinnen* in sich trägt. Nun gastiert die Reihe erstmals in Hamburg! Und das Schönste daran: wir feiern gleichzeitig den 35. Birthday des F*mz. Seit sage und schreibe 35 (!) Jahren bietet das Frauenmusikzentrum FLINTA*-Personen eine musikalischePlattform: Divers\, feministisch\, musikalisch  – und genialisch! \nLivemusik:  \n\nLIZZN: spielt Soul und Jazz-getriebenen HipHop! \nMit Loopstation und einer authentisch sympathischen Verpeiltheit lässt LIZZN euch in eine Palette von Emotionen eintauchen\, die ein buntes Gemälde erschaffen: die erste EP der Hamburger Rapperin trägt den Namen “LIZZN to myself”. Darauf singt die Sängerin und Beatboxerin über mentale Gesundheit und toxische Verhältnisse. Motto: „Reflektieren. Haltung zeigen. Betroffenen glauben.“ Mit Hymnen wie „Kein Lovesong“ schafft LIZZN dabei fröhliches Empowerment und Gänsehaut-Harmonien! \nLizzns erste Single „Stille Wasser“ entstand in einer Phase voller Umbrüche und Unsicherheiten. Der Song wirkt dabei jedoch wie eine Erkenntnis ihrer Selbstreflexion\, eine kleine Katharsis\, aus der sie als Künstlerin hervorgeht. „Werte nicht das Aussehen\, rede mit mir einfach“\, so rappt sie auf einem verträumten ChillHop-Beat und zeigt damit\, wie viel Tiefsinnigkeit und Erfahrung in diesem stillen Wasser namens Lizzn steckt. \n  \nTHE DOCTORELLA: spielen New-Wave-Rock-Chansons mit glitterschmetter Textflow! \nIn der Zeitung „neues deutschland“ war neulich zu lesen: „Den Abend eröffneten die Gastgeberinnen mit neuen Stücken ihrer immer wieder erstaunlichen Band The Doctorella\, die auf dem nächsten Album erscheinen werden\, darunter auch das witzige »Wenn wir tot wären«\, dessen Text eine ziemlich gute Frage stellt … Live entwickeln The Doctorella die phänomenal aufstachelnde Energie der amerikanischen Riot-Grrrl-Band Bikini Kill um 1993. Beide Grethers singen wie eine selbstbewusste Francoise Hardy\, die dabei so lässig erzählend klingt wie Dirk von Lowtzow von Tocotronic.“ (Kristof Schreuf in „neues deutschland“. Über: „Ich Brauche Eine Genie“ am 29.06.2022). \n  \nIn Kooperation mit dem Buchladen „Strips & Stories“ gibt es folgende Lesungen: \nComic-Lesung: \nLINA EHRENTRAUT: macht Zines\, Comics\, Illustrationen\, Fashion und Lesungen! \n„Da steht nicht nur der Titel Kopf“ schrieb die FAZ anlässlich der ihres gefeierten Comic „Melek + ich“ (2021\, Editon Moderne). Darin lässt sich Lina vom Alltag genauso wie von Science-Fiction Elementen inspirieren:  Nici ist Wissenschaftlerin und betrinkt sich gern in der Bar nebenan. Heimlich baut sie Melek\, einen Körper\, mit dem sie in parallele Dimensionen reisen kann… Am liebsten verbindet Lina  genial alles miteinander. Dann tauchen Kleidungsstücke in den Comics auf oder werden zu raumgreifenden Installationen. \nMusikalische Lesung: \nAußerdem lesen Kersty und Sandra ihre Texte aus der gerade erschienen Anthologie „These Girls Too“ (Ventil Verlag\, Hrsg Juliane Streich) und stellen Lyrics aus  den von ihnen 2021 herausgegebenen Songbook „Ich Brauche Eine Genie“ vor. \n„Ich brauche eine Genie“ versammelt  herausragende Songtexte von 70 Musikerinnen verschiedener Jahrzehnte und Genres in Deutschland. Dazu gibt es Begleitakkorde\, Fotos\, Plattencover\, Archivmaterial. Eine Wundertüte popkultureller Musikgeschichte. \nAll gender welcome!! \n  \nDie Veranstaltung wird gefördert von Neustart Kultur.
URL:https://frauenmusikzentrum.de/veranstaltung/jubilaeumsfest-35-jahre/
LOCATION:Musikbunker\, Feldstraße 66\, Hamburg\, 20359\, Germany
CATEGORIES:Veranstaltung
ATTACH;FMTTYPE=image/png:https://frauenmusikzentrum.de/wp-content/uploads/2022/08/Genie19_WEB_RGB.png
END:VEVENT
END:VCALENDAR