BEGIN:VCALENDAR
VERSION:2.0
PRODID:-//FMZ - ECPv6.15.17//NONSGML v1.0//EN
CALSCALE:GREGORIAN
METHOD:PUBLISH
X-WR-CALNAME:FMZ
X-ORIGINAL-URL:https://frauenmusikzentrum.de
X-WR-CALDESC:Veranstaltungen für FMZ
REFRESH-INTERVAL;VALUE=DURATION:PT1H
X-Robots-Tag:noindex
X-PUBLISHED-TTL:PT1H
BEGIN:VTIMEZONE
TZID:Europe/Berlin
BEGIN:DAYLIGHT
TZOFFSETFROM:+0100
TZOFFSETTO:+0200
TZNAME:CEST
DTSTART:20210328T010000
END:DAYLIGHT
BEGIN:STANDARD
TZOFFSETFROM:+0200
TZOFFSETTO:+0100
TZNAME:CET
DTSTART:20211031T010000
END:STANDARD
BEGIN:DAYLIGHT
TZOFFSETFROM:+0100
TZOFFSETTO:+0200
TZNAME:CEST
DTSTART:20220327T010000
END:DAYLIGHT
BEGIN:STANDARD
TZOFFSETFROM:+0200
TZOFFSETTO:+0100
TZNAME:CET
DTSTART:20221030T010000
END:STANDARD
BEGIN:DAYLIGHT
TZOFFSETFROM:+0100
TZOFFSETTO:+0200
TZNAME:CEST
DTSTART:20230326T010000
END:DAYLIGHT
BEGIN:STANDARD
TZOFFSETFROM:+0200
TZOFFSETTO:+0100
TZNAME:CET
DTSTART:20231029T010000
END:STANDARD
END:VTIMEZONE
BEGIN:VEVENT
DTSTART;TZID=Europe/Berlin:20220827T120000
DTEND;TZID=Europe/Berlin:20220827T173000
DTSTAMP:20260422T093951
CREATED:20220215T123234Z
LAST-MODIFIED:20220308T132830Z
UID:2180-1661601600-1661621400@frauenmusikzentrum.de
SUMMARY:Vocal Karussell mit Peta Devlin
DESCRIPTION:Es macht einfach Spaß zu Singen! Und eigentlich fehlt es auch nicht an Angeboten\, aber oft an der Zeit alles einmal auszuprobieren. Deshalb gibt es nun das Vocal Karussell.\n4 Songs in 5 Stunden! \nWir werden uns vier Songs aus dem Pop\, Rock\, Country und Jazz vornehmen\, ein paar Gedanken über die Merkmale und Klänge des jeweiligen Gesangs machen und zusammen singen. Es geht nicht um Perfektion\, sondern um Spaß am singen und Lust sich in ein paar verschiedene Gesangsstile zu werfen. \nKeine Vorkenntnisse erforderlich! \nKursleiterin: Peta Devlin ist seit 25 Jahren professionelle Musikerin\, Sängerin\, Komponistin\, Tontechnikerin und Produzentin. \nAnmeldung unter: info@frauenmusikzentrum.de
URL:https://frauenmusikzentrum.de/veranstaltung/vocal-karussell-mit-peta-devlin/
LOCATION:Frauenmusikzentrum\, Große Brunnenstr. 63A\, Hamburg\, 22763
CATEGORIES:Workshop
ATTACH;FMTTYPE=image/jpeg:https://frauenmusikzentrum.de/wp-content/uploads/2022/01/Peta-Devlin.jpg
END:VEVENT
END:VCALENDAR