BEGIN:VCALENDAR
VERSION:2.0
PRODID:-//FMZ - ECPv6.15.17//NONSGML v1.0//EN
CALSCALE:GREGORIAN
METHOD:PUBLISH
X-WR-CALNAME:FMZ
X-ORIGINAL-URL:https://frauenmusikzentrum.de
X-WR-CALDESC:Veranstaltungen für FMZ
REFRESH-INTERVAL;VALUE=DURATION:PT1H
X-Robots-Tag:noindex
X-PUBLISHED-TTL:PT1H
BEGIN:VTIMEZONE
TZID:Europe/Berlin
BEGIN:DAYLIGHT
TZOFFSETFROM:+0100
TZOFFSETTO:+0200
TZNAME:CEST
DTSTART:20210328T010000
END:DAYLIGHT
BEGIN:STANDARD
TZOFFSETFROM:+0200
TZOFFSETTO:+0100
TZNAME:CET
DTSTART:20211031T010000
END:STANDARD
BEGIN:DAYLIGHT
TZOFFSETFROM:+0100
TZOFFSETTO:+0200
TZNAME:CEST
DTSTART:20220327T010000
END:DAYLIGHT
BEGIN:STANDARD
TZOFFSETFROM:+0200
TZOFFSETTO:+0100
TZNAME:CET
DTSTART:20221030T010000
END:STANDARD
BEGIN:DAYLIGHT
TZOFFSETFROM:+0100
TZOFFSETTO:+0200
TZNAME:CEST
DTSTART:20230326T010000
END:DAYLIGHT
BEGIN:STANDARD
TZOFFSETFROM:+0200
TZOFFSETTO:+0100
TZNAME:CET
DTSTART:20231029T010000
END:STANDARD
END:VTIMEZONE
BEGIN:VEVENT
DTSTART;TZID=Europe/Berlin:20220528T130000
DTEND;TZID=Europe/Berlin:20220528T190000
DTSTAMP:20260421T155920
CREATED:20220419T124338Z
LAST-MODIFIED:20220519T130030Z
UID:3615-1653742800-1653764400@frauenmusikzentrum.de
SUMMARY:Licht- und Technikworkshop für FLINTA* mit Peta Devlin und Kristina Hoffmann
DESCRIPTION:In diesem Workshop werden die Grundlagen von Licht und Technik im Veranstaltungsbereich vermittelt. \nIn der ersten Hälfte erklärt euch Peta Devlin\, wie eine Band auf der Bühne sinnvoll platziert wird und welche technischen Herausforderungen entstehen. Wie mikrophoniere ich richtig? Was ist eine DI-Box und wofür brauche ich diese? Wie wird alles verbunden und verkabelt\, und was passiert genau am Mischpult? Wie gelingt mir ein ausgewogener Mix? sind u.a. Fragen\, denen auf den Grund gegangen wird. \nEin kleiner Einblick für alle\, die sich für Tontechnik im Live Bereich interessieren. Keine Vorkenntnisse notwendig. \nDie zweite Hälfte befasst sich primär mit Bühnenlicht. Was macht Licht mit der Bühnenatmosphäre? Welche Farbkombinationen wirken wie? Wie platziere ich das Bühnenlicht am sinnvollsten? Neben der Wahrnehmung von Raum wird mit dem Bühnenlicht auch die Aufmerksamkeit und Konzentration des Publikums gelenkt. Durch eine gute Lichtsetzung lassen wir die Personen auf der Bühne plastischer wirken und Licht beeinflusst auch emotional. Es heißt nicht umsonst „Lichtstimmung“. Kristina Hoffmann wird euch durch den zweiten Teil des Workshops leiten und erklären\, wie man mit gut eingesetztem Licht viel Wirkung erreichen kann. \nDie Teilnehmerinnen* haben zusätzlich am 02.06.22 die Möglichkeit ihr Erlerntes bei einer FEM*-JAM-Session im Haus Drei in Begleitung in der Praxis zu üben und umzusetzen.  \nAnmeldung unter: info@frauenmusikzentrum.de \nDer Workshop findet im Haus Drei\, Hospitalstr. 107 ab 13 Uhr statt. \nDozentinnen: Peta Devlin und Kristina Hoffmann
URL:https://frauenmusikzentrum.de/veranstaltung/licht-und-technikworkshop/
LOCATION:Musikbunker\, Feldstraße 66\, Hamburg\, 20359\, Germany
CATEGORIES:Workshop
ATTACH;FMTTYPE=image/png:https://frauenmusikzentrum.de/wp-content/uploads/2022/04/Licht-Technik-ws.png
END:VEVENT
END:VCALENDAR