BEGIN:VCALENDAR
VERSION:2.0
PRODID:-//FMZ - ECPv6.15.17//NONSGML v1.0//EN
CALSCALE:GREGORIAN
METHOD:PUBLISH
X-ORIGINAL-URL:https://frauenmusikzentrum.de
X-WR-CALDESC:Veranstaltungen für FMZ
REFRESH-INTERVAL;VALUE=DURATION:PT1H
X-Robots-Tag:noindex
X-PUBLISHED-TTL:PT1H
BEGIN:VTIMEZONE
TZID:Europe/Berlin
BEGIN:DAYLIGHT
TZOFFSETFROM:+0100
TZOFFSETTO:+0200
TZNAME:CEST
DTSTART:20210328T010000
END:DAYLIGHT
BEGIN:STANDARD
TZOFFSETFROM:+0200
TZOFFSETTO:+0100
TZNAME:CET
DTSTART:20211031T010000
END:STANDARD
BEGIN:DAYLIGHT
TZOFFSETFROM:+0100
TZOFFSETTO:+0200
TZNAME:CEST
DTSTART:20220327T010000
END:DAYLIGHT
BEGIN:STANDARD
TZOFFSETFROM:+0200
TZOFFSETTO:+0100
TZNAME:CET
DTSTART:20221030T010000
END:STANDARD
BEGIN:DAYLIGHT
TZOFFSETFROM:+0100
TZOFFSETTO:+0200
TZNAME:CEST
DTSTART:20230326T010000
END:DAYLIGHT
BEGIN:STANDARD
TZOFFSETFROM:+0200
TZOFFSETTO:+0100
TZNAME:CET
DTSTART:20231029T010000
END:STANDARD
END:VTIMEZONE
BEGIN:VEVENT
DTSTART;TZID=Europe/Berlin:20220430T120000
DTEND;TZID=Europe/Berlin:20220430T173000
DTSTAMP:20260421T144852
CREATED:20220215T120303Z
LAST-MODIFIED:20220428T153125Z
UID:2163-1651320000-1651339800@frauenmusikzentrum.de
SUMMARY:Die Horde: Percussion- und Trommeln mit Keo (Anke) Hundius
DESCRIPTION:Für Rhythmusfrauen* die Lust haben auf neue Rhythmen\, Breaks und Arrangements: von westafrikanischen bis hin zu funkigen Momenten. Ob Bodypercussion\, Cajon\, Djembés\, Basstrommeln\,..oder\, oder\, oder..?? Alles ist willkommen! Lasst uns grooven und Spaß haben. \nBei der Anmeldung bitte Instrument und Spielpraxis angeben. \nKursleiterin: Keo (Anke) Hundius; „A Quadrat-RhythMusiKabarett“\, Body-Percussion-Chor “Die BeatSchwestern“. \nwww.groove-hamburg.de \, Ex- „Trude träumt von Afrika“ \nAnmeldung und weitere Informationen unter: keo@groove-hamburg.de \n 
URL:https://frauenmusikzentrum.de/veranstaltung/die-horde-percussion-und-trommeln-mit-keo-anke-hundius/
LOCATION:Frauenmusikzentrum\, Große Brunnenstr. 63A\, Hamburg\, 22763
CATEGORIES:Workshop
ATTACH;FMTTYPE=image/jpeg:https://frauenmusikzentrum.de/wp-content/uploads/2022/02/Keo-Hundius-scaled.jpg
END:VEVENT
END:VCALENDAR